BEGIN:VCALENDAR
VERSION:2.0
PRODID:-//ChamberMaster//Event Calendar 2.0//EN
METHOD:PUBLISH
X-PUBLISHED-TTL:P3D
REFRESH-INTERVAL:P3D
CALSCALE:GREGORIAN
BEGIN:VEVENT
DTSTART;VALUE=DATE:20110901
DTEND;VALUE=DATE:20110902
TRANSP:TRANSPARENT
X-MICROSOFT-CDO-ALLDAYEVENT:TRUE
SUMMARY:2011 Vietnam\, Cambodia\, and Laos Business Missions\; Vietnam Defense Dialogue - Sep 1 2011
DESCRIPTION:
X-ALT-DESC;FMTTYPE=text/html:
LOCATION:
UID:e.9078.305
SEQUENCE:3
DTSTAMP:20260426T012945Z
URL:http://memberzone.usasean.org/events/details/2011-vietnam-cambodia-and-laos-business-missions-vietnam-defense-dialogue-sep-1-2011-09-01-2011-305
END:VEVENT

END:VCALENDAR
