BEGIN:VCALENDAR
VERSION:2.0
PRODID:-//ChamberMaster//Event Calendar 2.0//EN
METHOD:PUBLISH
X-PUBLISHED-TTL:P3D
REFRESH-INTERVAL:P3D
CALSCALE:GREGORIAN
BEGIN:VEVENT
DTSTART:20200803T003000Z
DTEND:20200803T013000Z
X-MICROSOFT-CDO-ALLDAYEVENT:FALSE
SUMMARY:2/2020 Customs Committee Call
DESCRIPTION:US-ABC is organizing the second Customs Committee Call of the year.
X-ALT-DESC;FMTTYPE=text/html:US-ABC is organizing the second Customs Committee Call of the year.
LOCATION:Conference Call via Zoom
UID:e.9078.8263
SEQUENCE:3
DTSTAMP:20260420T111247Z
URL:http://memberzone.usasean.org/events/details/2-2020-customs-committee-call-8263
END:VEVENT

END:VCALENDAR
