BEGIN:VCALENDAR
VERSION:2.0
PRODID:-//ChamberMaster//Event Calendar 2.0//EN
METHOD:PUBLISH
X-PUBLISHED-TTL:P3D
REFRESH-INTERVAL:P3D
CALSCALE:GREGORIAN
BEGIN:VEVENT
DTSTART:20210528T020000Z
DTEND:20210528T040000Z
X-MICROSOFT-CDO-ALLDAYEVENT:FALSE
SUMMARY:11th Virtual Meeting of the Singapore Joint Cybersecurity Working Group
DESCRIPTION:The Council is pleased to invite you to our upcoming meeting of the 11th Singapore Joint Cyber Security Working Group (JCSWG)\, a collaboration between Singapore's Cyber Security Agency (CSA)\, the U.S. Embassy in Singapore\, and the U.S. private sector (as represented by AmCham Singapore\, BSA\, and the Council).
X-ALT-DESC;FMTTYPE=text/html:<span style="font-size:12.0pt\;font-family:&quot\;Arial&quot\;\,sans-serif\;&#10\;mso-fareast-font-family:DengXian\;mso-fareast-theme-font:minor-fareast\;&#10\;color:black\;mso-ansi-language:EN-SG\;mso-fareast-language:ZH-CN\;mso-bidi-language:&#10\;AR-SA">The Council is pleased to invite you to our upcoming meeting of the 11th Singapore Joint Cyber Security Working Group (JCSWG)\, a collaboration between Singapore&#39\;s Cyber Security Agency (CSA)\, the U.S. Embassy in Singapore\, and</span><span style="font-size:12.0pt\;font-family:&quot\;Arial&quot\;\,sans-serif\;mso-fareast-font-family:&#10\;DengXian\;mso-fareast-theme-font:minor-fareast\;mso-ansi-language:EN-SG\;&#10\;mso-fareast-language:ZH-CN\;mso-bidi-language:AR-SA">&nbsp\;the U.S. private sector (as represented by AmCham Singapore\, BSA\, and the Council).&nbsp\;</span>
LOCATION:Virtual
UID:e.9078.8463
SEQUENCE:3
DTSTAMP:20260419T210359Z
URL:http://memberzone.usasean.org/events/details/11th-virtual-meeting-of-the-singapore-joint-cybersecurity-working-group-8463
END:VEVENT

END:VCALENDAR
